BEGIN:VCALENDAR
VERSION:2.0
PRODID:-//ΕΠΕΓΕ - ECPv6.15.20//NONSGML v1.0//EN
CALSCALE:GREGORIAN
METHOD:PUBLISH
X-WR-CALNAME:ΕΠΕΓΕ
X-ORIGINAL-URL:https://www.epege.gr
X-WR-CALDESC:Events for ΕΠΕΓΕ
REFRESH-INTERVAL;VALUE=DURATION:PT1H
X-Robots-Tag:noindex
X-PUBLISHED-TTL:PT1H
BEGIN:VTIMEZONE
TZID:Europe/Athens
BEGIN:DAYLIGHT
TZOFFSETFROM:+0200
TZOFFSETTO:+0300
TZNAME:EEST
DTSTART:20160327T010000
END:DAYLIGHT
BEGIN:STANDARD
TZOFFSETFROM:+0300
TZOFFSETTO:+0200
TZNAME:EET
DTSTART:20161030T010000
END:STANDARD
BEGIN:DAYLIGHT
TZOFFSETFROM:+0200
TZOFFSETTO:+0300
TZNAME:EEST
DTSTART:20170326T010000
END:DAYLIGHT
BEGIN:STANDARD
TZOFFSETFROM:+0300
TZOFFSETTO:+0200
TZNAME:EET
DTSTART:20171029T010000
END:STANDARD
BEGIN:DAYLIGHT
TZOFFSETFROM:+0200
TZOFFSETTO:+0300
TZNAME:EEST
DTSTART:20180325T010000
END:DAYLIGHT
BEGIN:STANDARD
TZOFFSETFROM:+0300
TZOFFSETTO:+0200
TZNAME:EET
DTSTART:20181028T010000
END:STANDARD
END:VTIMEZONE
BEGIN:VEVENT
DTSTART;VALUE=DATE:20171002
DTEND;VALUE=DATE:20171003
DTSTAMP:20260425T193351
CREATED:20170209T090232Z
LAST-MODIFIED:20170309T090502Z
UID:2049-1506902400-1506988799@www.epege.gr
SUMMARY:5th International Symposium on Complications in GI Endoscopy
DESCRIPTION:
URL:https://www.epege.gr/event/5th-international-symposium-on-complications-in-gi-endoscopy/
LOCATION:Hotel Crowne Plaza Hamburg – City Alster\, Graumannsweg 10\, Hamburg\, 22087\, Γερμανία
CATEGORIES:Συνέδριο
END:VEVENT
BEGIN:VEVENT
DTSTART;VALUE=DATE:20171005
DTEND;VALUE=DATE:20171008
DTSTAMP:20260425T193351
CREATED:20170209T084816Z
LAST-MODIFIED:20170309T085112Z
UID:2035-1507161600-1507420799@www.epege.gr
SUMMARY:37o Πανελλήνιο Συνέδριο Γαστρεντερολογίας
DESCRIPTION:
URL:https://www.epege.gr/event/37o-%cf%80%ce%b1%ce%bd%ce%b5%ce%bb%ce%bb%ce%ae%ce%bd%ce%b9%ce%bf-%cf%83%cf%85%ce%bd%ce%ad%ce%b4%cf%81%ce%b9%ce%bf-%ce%b3%ce%b1%cf%83%cf%84%cf%81%ce%b5%ce%bd%cf%84%ce%b5%cf%81%ce%bf%ce%bb%ce%bf%ce%b3/
LOCATION:Ξενοδοχείο Makedonia Palace\, Λεωφ. Μεγ. Αλεξάνδρου 2\, Θεσσαλονίκη\, 546 40
CATEGORIES:Συνέδριο
ORGANIZER;CN="%CE%95%CE%BB%CE%BB%CE%B7%CE%BD%CE%B9%CE%BA%CE%AE %CE%93%CE%B1%CF%83%CF%84%CF%81%CE%B5%CE%BD%CF%84%CE%B5%CF%81%CE%BF%CE%BB%CE%BF%CE%B3%CE%B9%CE%BA%CE%AE %CE%95%CF%84%CE%B1%CE%B9%CF%81%CE%B5%CE%AF%CE%B1":MAILTO:info@hsg.gr
END:VEVENT
BEGIN:VEVENT
DTSTART;VALUE=DATE:20171013
DTEND;VALUE=DATE:20171019
DTSTAMP:20260425T193351
CREATED:20170209T085125Z
LAST-MODIFIED:20170309T085423Z
UID:2038-1507852800-1508371199@www.epege.gr
SUMMARY:World Congress of Gastroenterology @ ACG2017
DESCRIPTION:
URL:https://www.epege.gr/event/world-congress-of-gastroenterology-acg2017/
LOCATION:Orange County Convention Center\, 9800 International Drive\, Orlando\, FL 32819\, Ηνωμένες Πολιτείες
CATEGORIES:Συνέδριο
END:VEVENT
BEGIN:VEVENT
DTSTART;VALUE=DATE:20171020
DTEND;VALUE=DATE:20171025
DTSTAMP:20260425T193351
CREATED:20170209T085502Z
LAST-MODIFIED:20170309T085723Z
UID:2041-1508457600-1508889599@www.epege.gr
SUMMARY:AASLD - The  Liver Meeting
DESCRIPTION:
URL:https://www.epege.gr/event/aasld-the-liver-meeting/
LOCATION:Walter E. Washington Convention Center\, 801 Mt Vernon Pl NW\, Washington\, DC 20001\, Ηνωμένες Πολιτείες
CATEGORIES:Συνέδριο
END:VEVENT
BEGIN:VEVENT
DTSTART;VALUE=DATE:20171028
DTEND;VALUE=DATE:20171102
DTSTAMP:20260425T193351
CREATED:20170209T085910Z
LAST-MODIFIED:20170309T090222Z
UID:2045-1509148800-1509580799@www.epege.gr
SUMMARY:25th United European Gastroenterology Week (UEGW)
DESCRIPTION:
URL:https://www.epege.gr/event/25th-united-european-gastroenterology-week-uegw/
LOCATION:Fira Gran Via\, Avinguda de la Reina Maria Cristina\, Barcelona\, 08004\, Ισπανία
CATEGORIES:Συνέδριο
ORGANIZER;CN="UEG - United European Gastroenterology":MAILTO:office@ueg.eu
END:VEVENT
END:VCALENDAR