BEGIN:VCALENDAR
VERSION:2.0
PRODID:-//ΕΠΕΓΕ - ECPv6.15.20//NONSGML v1.0//EN
CALSCALE:GREGORIAN
METHOD:PUBLISH
X-ORIGINAL-URL:https://www.epege.gr
X-WR-CALDESC:Events for ΕΠΕΓΕ
REFRESH-INTERVAL;VALUE=DURATION:PT1H
X-Robots-Tag:noindex
X-PUBLISHED-TTL:PT1H
BEGIN:VTIMEZONE
TZID:Europe/Athens
BEGIN:DAYLIGHT
TZOFFSETFROM:+0200
TZOFFSETTO:+0300
TZNAME:EEST
DTSTART:20160327T010000
END:DAYLIGHT
BEGIN:STANDARD
TZOFFSETFROM:+0300
TZOFFSETTO:+0200
TZNAME:EET
DTSTART:20161030T010000
END:STANDARD
BEGIN:DAYLIGHT
TZOFFSETFROM:+0200
TZOFFSETTO:+0300
TZNAME:EEST
DTSTART:20170326T010000
END:DAYLIGHT
BEGIN:STANDARD
TZOFFSETFROM:+0300
TZOFFSETTO:+0200
TZNAME:EET
DTSTART:20171029T010000
END:STANDARD
BEGIN:DAYLIGHT
TZOFFSETFROM:+0200
TZOFFSETTO:+0300
TZNAME:EEST
DTSTART:20180325T010000
END:DAYLIGHT
BEGIN:STANDARD
TZOFFSETFROM:+0300
TZOFFSETTO:+0200
TZNAME:EET
DTSTART:20181028T010000
END:STANDARD
END:VTIMEZONE
BEGIN:VEVENT
DTSTART;VALUE=DATE:20170525
DTEND;VALUE=DATE:20170528
DTSTAMP:20260426T053001
CREATED:20170209T082034Z
LAST-MODIFIED:20170309T082546Z
UID:2015-1495670400-1495929599@www.epege.gr
SUMMARY:15ο Πανελλήνιο Ηπατολογικό Συνέδριο
DESCRIPTION:
URL:https://www.epege.gr/event/15%ce%bf-%cf%80%ce%b1%ce%bd%ce%b5%ce%bb%ce%bb%ce%ae%ce%bd%ce%b9%ce%bf-%ce%b7%cf%80%ce%b1%cf%84%ce%bf%ce%bb%ce%bf%ce%b3%ce%b9%ce%ba%cf%8c-%cf%83%cf%85%ce%bd%ce%ad%ce%b4%cf%81%ce%b9%ce%bf/
LOCATION:Ξενοδοχείο Larissa Imperial\, Φαρσάλων 182\, Λάρισα\, 413 35\, Ελλάδα
CATEGORIES:Συνέδριο
ORGANIZER;CN="%CE%95%CE%BB%CE%BB%CE%B7%CE%BD%CE%B9%CE%BA%CE%AE %CE%95%CF%84%CE%B1%CE%B9%CF%81%CE%B5%CE%AF%CE%B1 %CE%9C%CE%B5%CE%BB%CE%AD%CF%84%CE%B7%CF%82 %CE%97%CF%80%CE%B1%CF%84%CE%BF%CF%82":MAILTO:info@eemh.gr
END:VEVENT
END:VCALENDAR