BEGIN:VCALENDAR
VERSION:2.0
PRODID:-//ΕΠΕΓΕ - ECPv6.15.20//NONSGML v1.0//EN
CALSCALE:GREGORIAN
METHOD:PUBLISH
X-WR-CALNAME:ΕΠΕΓΕ
X-ORIGINAL-URL:https://www.epege.gr
X-WR-CALDESC:Events for ΕΠΕΓΕ
REFRESH-INTERVAL;VALUE=DURATION:PT1H
X-Robots-Tag:noindex
X-PUBLISHED-TTL:PT1H
BEGIN:VTIMEZONE
TZID:Europe/Athens
BEGIN:DAYLIGHT
TZOFFSETFROM:+0200
TZOFFSETTO:+0300
TZNAME:EEST
DTSTART:20170326T010000
END:DAYLIGHT
BEGIN:STANDARD
TZOFFSETFROM:+0300
TZOFFSETTO:+0200
TZNAME:EET
DTSTART:20171029T010000
END:STANDARD
BEGIN:DAYLIGHT
TZOFFSETFROM:+0200
TZOFFSETTO:+0300
TZNAME:EEST
DTSTART:20180325T010000
END:DAYLIGHT
BEGIN:STANDARD
TZOFFSETFROM:+0300
TZOFFSETTO:+0200
TZNAME:EET
DTSTART:20181028T010000
END:STANDARD
BEGIN:DAYLIGHT
TZOFFSETFROM:+0200
TZOFFSETTO:+0300
TZNAME:EEST
DTSTART:20190331T010000
END:DAYLIGHT
BEGIN:STANDARD
TZOFFSETFROM:+0300
TZOFFSETTO:+0200
TZNAME:EET
DTSTART:20191027T010000
END:STANDARD
END:VTIMEZONE
BEGIN:VEVENT
DTSTART;VALUE=DATE:20180223
DTEND;VALUE=DATE:20180226
DTSTAMP:20260425T143430
CREATED:20180215T110838Z
LAST-MODIFIED:20180222T111238Z
UID:2301-1519344000-1519603199@www.epege.gr
SUMMARY:13η Πανελλήνια Εκπαιδευτική Συνάντηση ΕΛΙΓΑΣΤΕξελίξεις στη Γαστρεντερολογία και Ηπατολογία
DESCRIPTION:ΔΙΟΙΚΗΤΙΚΟ ΣΥΜΒΟΥΛΙΟ\nΕΛ.Ι.ΓΑΣΤΠρόεδρος\n Γ. Παπαθεοδωρίδης\nΔιευθυντής\n Γ. Πασπάτης\nΓεν. Γραμματέας\n Γ. Καραμανώλης\nΤαμίας\n Ν. Βιάζης\nΜέλη\n Ε. Ακριβιάδης\nΝ. Θεοδωρίδης\nΔ. Καραγιάννης\nΣ. Μανωλακόπουλος\nΔ. Ταμπακόπουλος\nΕ. Τσιρώνη\nΛ. Χατζηανδρέου \nΟΡΓΑΝΩΤΙΚΗ ΕΠΙΤΡΟΠΗΠρόεδρος\n Ε. Ακριβιάδης\nΑντιπρόεδρος\n Γ. Παπαθεοδωρίδης\nΓεν. Γραμματέας\n Ε. Σινάκος\nΕιδ. Γραμματέας\n Ε. Χολόγκιτας\nΤαμίας\n Χ. Τριάντος\nΜέλη\n Γ. Γερμανίδης\nΙ. Μανιός\nΓ. Μπάμιας\nΠ. Παπαχρήστος \nΕΠΙΣΤΗΜΟΝΙΚΗ ΕΠΙΤΡΟΠΗΙ. Βλαχογιαννάκος\nΣ. Γεωργόπουλος\nΌ. Γιουλεμέ\nΑ. Γραμματόπουλος\nΕ. Ζαμπέλη\nΚ. Θωμόπουλος\nΔ. Καραγιάννης\nΓ. Καραμανώλης\nΙ. Καρούμπαλης\nΠ. Κασαπίδης\nΑ. Καψωριτάκης\nΜ. Κοντογιάννη\nΙ. Κοσκίνας\nΙ. Κουτρουμπάκης\nΓ. Μάντζαρης\nΑ. Μαντίδης\nΣ. Μανωλακόπουλος\nΚ. Μάρκογλου\nΣ. Μιχόπουλος\nΣ. Ντουράκης\nΜ. Οικονόμου\nΙ. Παπακωνσταντίνου\nΙ. Παπανικολάου\nΚ. Παρασκευά\nΓ. Πασπάτης\nΣ. Ποταμιάνος\nΕ. Ρώμα\nΔ. Σαμωνάκης\nΣ. Σγούρος\nΗ. Σκοτινιώτης\nΓ. Στεφανίδης\nΕ. Συμβουλάκης\nΔ. Ταμπακόπουλος\nΔ. Τζιλβές\nΜ. Τζουβαλά\nΕ. Τσιρώνη\nΧ. Τσιώνης\nΑ. Χρηστίδου\nΔ. Χριστοδούλου \nΧΑΙΡΕΤΙΣΜΟΣ ΠΡΟΕΔΡΟΥΜε ευχαρίστηση σάς ανακοινώνω τη διενέργεια της 13ης Πανελλήνιας Εκπαιδευτικής Συνάντησης του Ελληνικού Ιδρύματος Γαστρεντερολογίας & Διατροφής\, η οποία θα λάβει χώρα στις 23\, 24 & 25 Φεβρουαρίου 2018. Φιλοδοξία της Οργανωτικής Επιτροπής είναι να εκτεθούν στη διάρκεια της εκδήλωσης και να συζητηθούν διεξοδικά οι σημαντικότερες εξελίξεις στις παθήσεις του γαστρεντερικού σωλήνα\, του ήπατος\, των χοληφόρων και του παγκρέατος καθώς και θεμάτων διατροφής που ενδιαφέρουν τον Κλινικό Γαστρεντερολόγο\, Παθολόγο και Διαιτολόγο-Διατροφολόγο. \nΤο εκπαιδευτικό βήμα της Ετήσιας Εκπαιδευτικής Συνάντησης του ΕΛ.Ι.ΓΑΣΤ αποτελεί πλέον θεσμό στις επιστημονικές δραστηριότητες της Γαστρεντερολογικής-Ηπατολογικής κοινότητας της χώρας μας\, πνευματική παρακαταθήκη του αείμνηστου ιδρυτή του Ιδρύματος Δημήτρη Καραμανώλη και εκ παραδόσεως περιλαμβάνει στο επιστημονικό της πρόγραμμα θέματα κλινικού ενδιαφέροντος αιχμής για τον Κλινικό Ιατρό και Διατροφολόγο. \nΗ φετινή Εκπαιδευτική Συνάντηση θα διεξαχθεί στον φιλόξενο χώρο της «Αίγλης» του Ζαππείου. Ευελπιστούμε να αποτελέσει και πάλι πόλο ενδιαφέροντος και συμμετοχής ικανοποιητικού αριθμού Επιστημόνων και Κλινικών Ιατρών με ενδιαφέρον στις εξελίξεις της Γαστρεντερολογίας\, Ηπατολογίας καθώς και θεμάτων Διατροφής. Το πρόγραμμα της Επιστημονικής Συνάντησης περιλαμβάνει ευρεία γκάμα θεμάτων\, καθώς η φετινή εκδήλωση για πρώτη φορά θα διαρκέσει τρεις ημέρες. Αφιερώνεται στη μνήμη του Κωνσταντίνου Αρβανιτάκη\, ιδρυτικού μέλους του ΕΛ.Ι.ΓΑΣΤ.\, και θεμελιωτή μαζί με τον Δημήτρη Καραμανώλη του θεσμού των Εκπαιδευτικών Συναντήσεων του Ιδρύματος. \nΚρατήστε την ημερομηνία 23-25 Φεβρουαρίου 2018 στην ατζέντα σας! Ελπίζουμε στην ενεργό συμμετοχή σας. \nΜε θερμούς χαιρετισμούς\nΕυάγγελος Ακριβιάδης\nΚαθηγητής Παθολογίας-Γαστρεντερολογίας \nΕπιστημονικό Πρόγραμμα1η Ημέρα\nΠαρασκευή\, 23 Φεβρουαρίου 2018\n\n\n\n08.30-09.00\nΧαιρετισμοί – Εισαγωγή\n\n\n09.00-10.30\nΔιατροφή – Ι\nΠροεδρείο: Ι. Κοσκίνας\, Ι. Μανιός\n\nΔιαιτητικές ίνες: Είδη\, ταξινόμηση και επίδραση στο έντερο.\nΜ. Γιαννακούλια\nΧρήση αλκοόλης από μη αλκοολικούς ηπατοπαθείς. Είναι όντως κόκκινο πανί;\nΕ. Ράπτη\nΟ ρόλος του καφέ στο πεπτικό.\nΜ. Περπερίδη\nΠροϊόντα ελεύθερα γλουτένης. Έχουν θέση στη διατροφή ασθενών χωρίς κοιλιοκάκη;\nΕ. Μπαθρέλλου\n\n\n10.30-11.00\nΔιάλειμμα\n\n\n11.00-12.45\nΉπαρ – Ι\nΠροεδρείο: Ι. Βλαχογιαννάκος\, Χ. ΤριάντοςΕνδοσκόπηση στον κιρρωτικό ασθενή.\nΜ. Μελά\nΕξωνοσοκομειακή αντιμετώπιση του κιρρωτικού ασθενή.\nΝ. Μάθου\nΗ πρόληψη του ηπατοκυτταρικού καρκίνου.\nΕ. Σινάκος\nΘεραπευτικές επιλογές στον ηπατοκυτταρικό καρκίνο:\n– Μη επεμβατικές.\nΕ. Χολόγκιτας\n– Ο ρόλος του επεμβατικού ακτινολόγου.\nΑ. Χατζηδάκης\n\n\n12.45-14.00\nΕξελίξεις στην Κλινική Γαστρεντερολογία – Ι\nΠροεδρείο: Γ. Αλεξανδράκης\, Σ. Μιχόπουλος \nΥπάρχουν πραγματικοί κίνδυνοι από την ευρεία χρήση των PPIs;\nΚ. Τριανταφύλλου\nΝεότερα από του στόματος αντιπηκτικά και επιπλοκές από το γαστρεντερικό σωλήνα.\nΠ. Αποστολόπουλος\nΤι αλλάζει στη θεραπευτική αντιμετώπιση του καρκίνου του παγκρέατος.\nΧ. Εμμανουηλίδης\n\n\n14.00-15.00\nΜεσημβρινή Διακοπή\n\n\n15.00-16.45\nΕνδοσκόπηση – Ι\nΠροεδρείο: Κ. Παρασκευά\, Γ. Πασπάτης\n\nΤαξινόμηση των πολυπόδων του παχέος χωρίς βιοψία: Είναι εφικτή και ασφαλής;\nΔ. Καραγιάννης\nΟδοντωτά αδενώματα: Ανίχνευση\, εκτομή και οδηγίες παρακολούθησης.\nΘ. Εμμανουήλ\nPost-Polypectomy syndrome: Αναγνώριση και αντιμετώπιση.\nΒ. Βουδούκης\nESD ή EMR για πολυποειδείς βλάβες του παχέος εντέρου;\nΓ. Μαυρογένης\n\n\n16.45-17.15\nΔιάλεξη Ι\nΠροεδρείο: Π. Παπαχρήστος\n\nΗ τεχνολογία των 3d εκτυπωμένων τροφίμων στην υπηρεσία της Γαστρεντερολογίας.\nΠ. Βαραγιάννης\n\n\n17.15-17.45\nΔιάλειμμα\n\n\n17.45-19.15\nΑνώτερο Πεπτικό\nΠροεδρείο: Σ. Γεωργόπουλος\, Δ. Καμπέρογλου \nΗ σύγχρονη διαγνωστική και θεραπευτική προσέγγιση της ΓΟΠΝ και του οισοφάγου Barrett.\nΓ. Αναγνωστόπουλος\nΙστολογική διάγνωση ατροφικής γαστρίτιδας και εντερικής μεταπλασίας.\nΣ. Σακελλαρίου\nΟρθολογική προσέγγιση του ασθενούς με ατροφική γαστρίτιδα και εντερική μεταπλασία.\nΠ. Αγοραστού\nΣύγχρονα θεραπευτικά σχήματα για την εκρίζωση του ελικοβακτηριδίου του πυλωρού.\nΧ. Λιάτσος\n\n\n19.15-19.45\nΔορυφορική Διάλεξη (ΑΒΒVIE)\n\n\n19.45-20.15\nΔορυφορική Διάλεξη (MSD)\n\n\n20.15-21.15\nΣύνοψη της ημέρας – Τελετή έναρξης\nΠροεδρείο: Ε. Ακριβιάδης\, Γ. Παπαθεοδωρίδης\n\n\n\n2η Ημέρα\nΣάββατο\, 24 Φεβρουαρίου 2018\n\n\n\n09.00-10.45\nΔιατροφή – ΙΙ\nΠροεδρείο: Μ. Κοντογιάννη\, Ε. ΡώμαΟ ρόλος της διατροφής σε ασθενείς με ΓΟΠΝ και λειτουργική δυσπεψία.\nΝ. Μπομπότση\nΗ διατροφική αξιολόγηση του ασθενή με αντιρροπούμενη και μη αντιρροπούμενη κίρρωση.\nA. Γεωργίου\nΟδηγίες διατροφής σε χρόνια παγκρεατίτιδα.\nΧ. Κατσαγώνη\nΟδηγίες διατροφής για τον ασθενή με ΙΦΝΕ.\nΟ. Γιουλεμέ\n\n\n10.45-11.15\nΔιάλειμμα\n\n\n11.15-12.45\nΉπαρ – ΙΙ\nΠροεδρείο: Σ. Μανωλακόπουλος\, Γ. ΠαπαθεοδωρίδηςΗπατίτιδα Β. Τα ερωτήματα και οι προκλήσεις που παραμένουν.\nΧ. Κρανιδιώτη\nΘεραπευτική αντιμετώπιση της ηπατίτιδας C. Επιτέλους γίνεται απλή;\nΙ. Γουλής\nΕθνικό σχέδιο εκρίζωσης της ηπατίτιδας C.\nΓ. Καλαμίτσης\nΑυτοάνοσες/χολοστατικές παθήσεις του ήπατος. Τι αλλάζει στη φαρμακευτική αντιμετώπισή τους;\nΙ. Ελευσινιώτης\n\n\n12.45-13.45\nΔορυφορικό Συμπόσιο – Διάλεξη (JANSSEN)\n\n\n13.45-14.45\nΜεσημβρινή Διακοπή\n\n\n14.45-16.15\nΕξελίξεις στην Κλινική Γαστρεντερολογία – ΙΙ\nΠροεδρείο: Α. Νταϊλιάνας\, Δ. ΤαμπακόπουλοςΗ αντιμετώπιση ασθενών με ΙΦΝΕ και εξωεντερικό καρκίνο.\nΓ. Μιχαλόπουλος\nΛοίμωξη από C. difficile. Πρόληψη και θεραπεία το 2018.\nΔ. Χριστοδούλου\nΜετακτινική κολίτιδα: Πρόληψη\, διάγνωση και αντιμετώπιση.\nΓ. Καραμανώλης\nΜεσεντέριος λιποδυστροφία: Έχει σημασία;\nΕ. Ακριβιάδης\n\n\n16.15-17.45\nΚατώτερο Πεπτικό\nΠροεδρείο: Ν. Βιάζης\, Β. ΞουργιάςΔιάγνωση και αντιμετώπιση της ισχαιμικής νόσου του εντέρου.\nΜ. Μυλωνάκη\nΜικροσκοπική κολίτιδα. Κλινικές συσχετίσεις και θεραπευτική αντιμετώπιση.\nΣ. Σιακαβέλλας\nΗ αντιμετώπιση του ασθενούς με υποτροπιάζοντα επεισόδια εκκολπωματίτιδας.\nΚ. Παπαξοΐνης\nΤι πρέπει να γνωρίζει ο γαστρεντερολόγος για την περιπρωκτική λοίμωξη από HPV.\nΔ. Νάστου\n\n\n17.45-18.15\nΔιάλειμμα\n\n\n18.15-20.15\nΣύγχρονη Αντιμετώπιση των Ασθενών με ΙΦΝΕ\nΠροεδρείο: Γ. Μάντζαρης\, Γ. ΜπάμιαςΟ ρόλος της καλπροτεκτίνης στην παρακολούθηση ασθενών με ΙΦΝΕ.\nΚ. Σουφλέρης\nΜέτρηση των επιπέδων και των αντισωμάτων έναντι των anti-TNF βιολογικών παραγόντων.\nΠ. Καρατζάς\nΟ ρόλος της ενδοσκόπησης στη ρύθμιση της θεραπείας και την παρακολούθηση της δυσπλασίας.\nΕ. Τσιρώνη\nΟ ρόλος των θειοπουρινών και της μεθοτρεξάτης στη θεραπεία των ΙΦΝΕ το 2018.\nΚ. Καρμίρης\nΤι προσδοκούμε από τα νεότερα μικρά μόρια στη θεραπεία των ΙΦΝΕ;\nΚ. Κατσάνος\n\n\n20.15-20.45\nΗ σημασία της συνεργασίας στην αντιμετώπιση ασθενών με ΙΦΝΕ\nΠροεδρείο: Ε. ΑκριβιάδηςΣυζήτηση περιστατικού.\nΝ. Βιάζης\, Σ. Μακρέας\n\n\n20.15-21.15\nΣύνοψη δεύτερης ημέρας\nΠροεδρείο: Ε. Ακριβιάδης\n\n\n\n3η Ημέρα\nΚυριακή\, 25 Φεβρουαρίου 2018\n\n\n\n09.30-11.30\nΜη Aλκοολική Λιπώδης Νόσος του Ήπατος. Μία ολιστική προσέγγιση\nΠροεδρείο: Σ. Μανωλακόπουλος\, Σ. ΝτουράκηςΟ ρόλος της δίαιτας στην πρόληψη και την αντιμετώπιση της NAFLD.\nΧ. Δημοσθενόπουλος\nΟι ανησυχίες του διαβητολόγου.\nΝ. Τεντολούρης\nΘεραπευτικές επιλογές και προβλήματα από τη χορήγηση αντιϋπερτασικής αγωγής.\nΓ. Στεργίου\nΠοια πρέπει να είναι η ορθολογική προσέγγιση του ηπατολόγου – Υπάρχει ειδική φαρμακευτική αντιμετώπιση;\nΜ. Ντόιτς\nΦαρμακευτική θεραπεία της στεατοηπατίτιδας: Υπάρχει μέλλον;\nΕ. Σινάκος\n\n\n11.30-12.00\nΔιάλεξη – ΙΙ\nΠροεδρείο: Γ. ΣτεφανίδηςΠρόοδοι στην προσέγγιση των νοσημάτων των χοληφόρων.\nΙ. Παπανικολάου\n\n\n12.00-12.30\nΣυμπεράσματα – Κλείσιμο της Εκδήλωσης\nΠροεδρείο: Ε. Ακριβιάδης\n\n\n\nΠΡΟΕΔΡΟΙ – ΟΜΙΛΗΤΕΣ\n					\n						ΑΓΟΡΑΣΤΟΥ ΠΟΛΥΞΕΝΗ\nΓαστρεντερολόγος\, Επιστημονικός Συνεργάτης\, Δ’ Παθολογική Κλινική\, Α.Π.Θ. \nΑΚΡΙΒΙΑΔΗΣ ΕΥΑΓΓΕΛΟΣ\nΚαθηγητής Παθολογίας-Γαστρεντερολογίας\, Α.Π.Θ. \nΑΛΕΞΑΝΔΡΑΚΗΣ ΓΕΩΡΓΙΟΣ\nΔιευθυντής Γαστρεντερολογικής Κλινικής\, Ν.Ι.Μ.Τ.Σ. \nΑΝΑΓΝΩΣΤΟΠΟΥΛΟΣ ΓΕΩΡΓΙΟΣ\nΓαστρεντερολόγος\, Διευθυντής Γαστρεντερολογικής Κλινικής Νοσοκομείο «Μητέρα» \nΑΠΟΣΤΟΛΟΠΟΥΛΟΣ ΠΕΡΙΚΛΗΣ\nΔιευθυντής Γαστρεντερολογικής Κλινικής\, Ν.Ι.Μ.Τ.Σ. \nΒΑΡΑΓΙΑΝΝΗΣ ΠΑΝΑΓΙΩΤΗΣ\nM.Med.Sc.\, Κλινικός Διαιτολόγος-Διατροφολόγος\, Υπ. Διδάκτωρ Γεωπονικού Πανεπιστημίου Αθηνών\, Γενικός Γραμματέας Πανελληνίου Συλλόγου Διαιτολόγων-Διατροφολόγων \nΒΙΑΖΗΣ ΝΙΚΟΛΑΟΣ\nΓαστρεντερολόγος\, Διευθυντής Ε.Σ.Υ.\, Γ.Ν.Α. «Ο Ευαγγελισμός» \nΒΛΑΧΟΓΙΑΝΝΑΚΟΣ ΙΩΑΝΝΗΣ\nΑναπληρωτής Καθηγητής Γαστρεντερολογίας\, Ιατρική Σχολή Ε.Κ.Π.Α.\, Πανεπιστημιακή Γαστρεντερολογική Κλινική\, Γ.Ν.Α. «Λαϊκό» \nΒΟΥΔΟΥΚΗΣ ΒΑΓΓΕΛΗΣ\nΓαστρεντερολόγος\, Επιμελητής Β›\, Γ.Ν. Ηρακλείου «Βενιζέλειο-Πανάνειο»\, Διδάκτωρ Πανεπιστήμιου Κρήτης \nΓΕΩΡΓΙΟΥ ΑΛΕΞΑΝΔΡΑ\nMSc\, Διαιτολόγος-Διατροφολόγος\, Υπ. Διδάκτωρ Χαροκόπειου Πανεπιστημίου \nΓΕΩΡΓΟΠΟΥΛΟΣ ΣΩΤΗΡΙΟΣ\nΓαστρεντερολόγος\, MD\, FEBGH\, AGAF \nΓΙΑΝΝΑΚΟΥΛΙΑ ΜΑΡΙΑ\nΑναπληρώτρια Καθηγήτρια Διατροφής και Διαιτητικής Συμπεριφοράς\, Σχολή Επιστημών Υγείας και Αγωγής\, Τμήμα Επιστήμης Διαιτολογίας-Διατροφής\, Χαροκόπειο Πανεπιστήμιο \nΓΙΟΥΛΕΜΕ ΟΛΓΑ\nΑναπληρώτρια Καθηγήτρια Γαστρεντερολογίας Α.Π.Θ.\, Β΄ Προπαιδευτική Παθολογική Κλινική Α.Π.Θ.\, Γ.Ν.Θ. «Ιπποκράτειο» \nΓΟΥΛΗΣ ΙΩΑΝΝΗΣ\nΑναπληρωτής Καθηγητής Γαστρεντερολογίας\, Α.Π.Θ. \nΔΗΜΟΣΘΕΝΟΠΟΥΛΟΣ ΧΑΡΙΛΑΟΣ\nM.Μed.Sc.\, PhDc\, Προϊστάμενος Διαιτολογικού Τμήματος\, Γ.Ν.Α. «Λαϊκό»\, Μέλος Δ.Σ. Ελληνικής Διαβητολογικής Εταιρείας\, Μέλος Committee DNSG & EFAD European Specialist for Diabetes \nΕΛΕΥΣΙΝΙΩΤΗΣ ΙΩΑΝΝΗΣ\nΑναπληρωτής Καθηγητής Παθολογίας Ε.Κ.Π.Α.\, Διευθυντής Πανεπιστημιακής Παθολογικής Κλινικής\, Γ.Ο.Ν.Κ. «Οι Αγ. Ανάργυροι» \nΕΜΜΑΝΟΥΗΛ ΘΕΟΔΩΡΟΣ\nMD PhD FEBGH\, Γαστρεντερολόγος Ιασώ General \nΕΜΜΑΝΟΥΗΛΙΔΗΣ ΧΡΗΣΤΟΣ\nΟγκολόγος-Παθολόγος\, Διδάκτωρ Πανεπιστημίου Αθηνών\, Καθηγητής Πανεπιστημίου Καλιφόρνιας (UCLA)\, Τμήμα Αιματολογίας-Ογκολογίας\, Συνεργάτης Ιατρικού Διαβαλκανικού Θεσσαλονίκης \nΚΑΛΑΜΙΤΣΗΣ ΓΕΩΡΓΙΟΣ\nΠρόεδρος Συλλόγου Ασθενών Ήπατος Ελλάδος «Προμηθέας» \nΚΑΜΠΕΡΟΓΛΟΥ ΔΗΜΗΤΡΙΟΣ\nΔιευθυντής Ε.Σ.Υ.\, Πανεπιστημιακή Γαστρεντερολογική Κλινική\, Γ.Ν.Α. «Λαϊκό» \nΚΑΡΑΓΙΑΝΝΗΣ ΔΗΜΗΤΡΙΟΣ\nΓαστρεντερολόγος\, Ιατρικό Κέντρο Αθηνών \nΚΑΡΑΜΑΝΩΛΗΣ ΓΕΩΡΓΙΟΣ\nΕπίκουρος Καθηγητής Γαστρεντερολογίας\, Ε.Κ.Π.Α. \nΚΑΡΑΤΖΑΣ ΠΑΝΤΕΛΗΣ\nΓαστρεντερολόγος \nΚΑΡΜΙΡΗΣ ΚΩΝΣΤΑΝΤΙΝΟΣ\nMD\, PhD\, FEBGH\, Consultant Gastroenterologist\, Department of Gastroenterology\, Venizeleio General Hospital \nΚΑΤΣΑΓΩΝΗ ΧΡΙΣΤΙΝΑ\nΔιδάκτωρ Χαροκοπείου Πανεπιστημίου\, Κλινική Διαιτολόγος-Διατροφολόγος\, Νοσοκομείο Παίδων «Η Αγία Σοφία» \nΚΑΤΣΑΝΟΣ ΚΩΝΣΤΑΝΤΙΝΟΣ\nΕπίκουρος Καθηγητής Γαστρεντερολογίας\, Τμήμα Γαστρεντερολογίας\, Ιατρική Σχολή\, Πανεπιστήμιο Ιωαννίνων \nΚΟΝΤΟΓΙΑΝΝΗ ΜΕΡΟΠΗ\nΕπίκουρη Καθηγήτρια Κλινικής Διατροφής\, Χαροκόπειο Πανεπιστήμιο \nΚΟΣΚΙΝΑΣ ΙΩΑΝΝΗΣ\nΚαθηγητής Παθολογίας-Ηπατολογίας\, Ε.Κ.Π.Α. \nΚΡΑΝΙΔΙΩΤΗ ΧΑΡΙΚΛΕΙΑ\nΠαθολόγος\, Μετεκπαιδευθείσα στην Ηπατολογία\, Διδάκτωρ Πανεπιστημίου Αθηνών \nΛΙΑΤΣΟΣ ΧΡΗΣΤΟΣ\nΓαστρεντερολόγος\, Διευθυντής Ενδοσκοπικού Τμήματος 401 Γ.Σ.Ν.Α.\, Διδάκτωρ Πανεπιστημίου Αθηνών\, Fellow of European Board of Gastroenterology & Hepatology \nΜΑΘΟΥ ΝΙΚΟΛΕΤΑ\nΔιευθύντρια Ε.Σ.Υ.\, Γαστρεντερολογικό Τμήμα\, «Κωνσταντοπούλειο» Γ.Ν. Ν. Ιωνίας-Πατησίων \nΜΑΚΡΕΑΣ ΣΩΚΡΑΤΗΣ\nΓαστρεντερολόγος \nΜΑΝΙΟΣ ΙΩΑΝΝΗΣ\nΚαθηγητής\, Τμήμα Διατροφής-Διαιτολογίας\, Σχολή Επιστημών Υγείας & Αγωγής\, Χαροκόπειο Πανεπιστήμιο \nΜΑΝΤΖΑΡΗΣ ΓΕΡΑΣΙΜΟΣ\nΣυντονιστής Διευθυντής Γαστρεντερολογικού Τμήματος\, Γ.Ν.Α. «Ο Ευαγγελισμός» \nΜΑΝΩΛΑΚΟΠΟΥΛΟΣ ΣΠΗΛΙΟΣ\nΑναπληρωτής Καθηγητής Γαστρεντερολογίας-Ηπατολογίας\, Ε.Κ.Π.Α. \n\n\n					\n				\n					\n						ΜΑΥΡΟΓΕΝΗΣ ΓΕΩΡΓΙΟΣ\nΓαστρεντερολόγος\, Mediterraneo Hospital \nΜΕΛΑ ΜΑΡΙΑ\nΓαστρεντερολόγος\, Επιμελήτρια Α’\, Γ.Ν.Α. «Ο Ευαγγελισμός»\, Οφθαλμιατρείο «Πολυκλινική Αθηνών» \nΜΙΧΑΛΟΠΟΥΛΟΣ ΓΕΩΡΓΙΟΣ\nΕπικουρικός Ιατρός\, Γ.Ν. Πειραιά «Τζάνειο» \nΜΙΧΟΠΟΥΛΟΣ ΣΠΥΡΟΣ\nΣυντονιστής Διευθυντής Γαστρεντερολογικής Κλινικής\, Γ.Ν.Α. «Αλεξάνδρα» \nΜΠΑΘΡΕΛΛΟΥ ΕΙΡΗΝΗ\nPhD\, Διαιτολόγος-Διατροφολόγος\, Χαροκόπειο Πανεπιστήμιο \nΜΠΑΜΙΑΣ ΓΕΩΡΓΙΟΣ\nΑναπληρωτής Καθηγητής Γαστρεντερολογίας\, Ιατρική Σχολή Ε.Κ.Π.Α.\, Πανεπιστημιακή Γαστρεντερολογική Κλινική\, Γ.Ν.Α. «Λαϊκό» \nΜΠΟΜΠΟΤΣΗ ΠΑΝΑΓΙΑ\nΓαστρεντερολόγος \nΜΥΛΩΝΑΚΗ ΜΑΡΙΑ\nΓαστρεντερολόγος\, πρώην Επιμελήτρια Α›\, Γαστρεντερολογικό Τμήμα\, Γ.Ν. Νίκαιας «Ο Άγιος Παντελεήμων» \nΝΑΣΤΟΥ ΔΕΣΠΟΙΝΑ\nΓαστρεντερολόγος\, Ιασώ General \nΝΤΑΪΛΙΑΝΑΣ ΑΠΟΣΤΟΛΟΣ\nΔιευθυντής Α’ Γαστρεντερολογικής Κλινικής\, «Υγεία» \nNTOΪΤΣ ΜΕΛΑΝΙ\nΕπίκουρη Καθηγήτρια Παθολογίας-Ηπατολογίας\, Β’ Πανεπιστημιακή Παθολογική Κλινική Ε.Κ.Π.Α.\, Γ.Ν.Α. «Ιπποκράτειο» \nΝΤΟΥΡΑΚΗΣ ΣΠΥΡΟΣ\nΚαθηγητής Παθολογίας\, Διευθυντής Β’ Παθολογικής Κλινικής και Ομώνυμου Εργαστηρίου\, Ιατρική Σχολή Ε.Κ.Π.Α.\, Γ.Ν.Α «Ιπποκράτειο» \nΞΟΥΡΓΙΑΣ ΒΑΣΙΛΕΙΟΣ\nΔιευθυντής Γαστρεντερολογικής Κλινικής\, Γ.Ν. Πειραιά «Τζάνειο» \nΠΑΠΑΘΕΟΔΩΡΙΔΗΣ ΓΕΩΡΓΙΟΣ\nΚαθηγητής Γαστρεντερολογίας-Ηπατολογίας Ε.Κ.Π.Α.\, Διευθυντής Πανεπιστημιακής Γαστρεντερολογικής Κλινικής\, Γ.Ν.Α. «Λαϊκό» \nΠΑΠΑΝΙΚΟΛΑΟΥ ΙΩΑΝΝΗΣ\nΕπίκουρος Καθηγητής Παθολογίας-Γαστρεντερολογίας\, Ηπατογαστρεντερολογική Μονάδα\, Β’ Προπαιδευτική Παθολογική Κλινική\, Ιατρική Σχολή Πανεπιστημίου Αθηνών\, Π.Γ.Ν.Α. «Αττικόν» \nΠΑΠΑΞΟΪΝΗΣ ΚΩΝΣΤΑΝΤΙΝΟΣ\nΓαστρεντερολόγος\, Επιμελητής Ε.Σ.Υ.\, Γαστρεντερολογική Κλινική\, Γ.Ν.Α. «Λαϊκό» \nΠΑΠΑΧΡΗΣΤΟΣ ΠΑΡΑΣΚΕΥΑΣ\nΔιαιτολόγος-Διατροφολόγος\, M.Sc.\, Ιδρυτής του medNutrition.gr \nΠΑΡΑΣΚΕΥΑ ΚΩΝΣΤΑΝΤΙΝΑ\nΔιευθύντρια\, Επιστημονικά Υπεύθυνη Γαστρεντερολογικού Τμήματος\, «Κωνσταντοπούλειο» Γ.Ν. Ν Ιωνίας-Πατησίων \nΠΑΣΠΑΤΗΣ ΓΡΗΓΟΡΙΟΣ\nΣυντονιστής Διευθυντής Γαστρεντερολογικής Κλινικής\, Γ.Ν. Ηρακλείου «Βενιζέλειο-Πανάνειο» \nΠΕΡΠΕΡΙΔΗ ΜΑΡΙΑ\nΔιαιτολόγος-Διατροφολόγος\, MSc \nΡΑΠΤΗ ΕΙΡΗΝΗ\nMD\, PhD\, Συνεργάτης Ηπατολογικής Κλινικής\, Ιατρικό Αθηνών \nΡΩΜΑ ΕΛΕΥΘΕΡΙΑ\nΟμότιμη Καθηγήτρια Παιδιατρικής Γαστρεντερολογίας\, Πανεπιστήμιο Αθηνών\, Επιστημονική Διευθύντρια Παιδογαστρεντερολογικού Τμήματος\, Νοσοκομείο Παίδων «Μητέρα» \nΣΑΚΕΛΛΑΡΙΟΥ ΣΤΡΑΤΗΓΟΥΛΑ\nΠαθολογοανατόμος\, Ακαδημαϊκή Υπότροφος\, 1ο Εργαστήριο Παθολογικής Ανατομικής\, Ιατρική Σχολή\, Ε.Κ.Π.Α. \nΣΙΝΑΚΟΣ ΕΜΜΑΝΟΥΗΛ\nΕπίκουρος Καθηγητής Παθολογίας-Ηπατολογίας\, Δ’ Παθολογική Κλινική\, Γ.Ν. «Ιπποκράτειο»\, Α.Π.Θ. \nΣΟΥΦΛΕΡΗΣ ΚΩΝΣΤΑΝΤΙΝΟΣ\nΓαστρεντερολόγος\, Επιμελητής Α’ Ε.Σ.Υ.\, Γαστρεντερολογική Κλινική\, Θεαγένειο Αντικαρκινικό Νοσοκομείο Θεσσαλονίκης \nΣΤΕΡΓΙΟΥ ΓΕΩΡΓΙΟΣ\nΚαθηγητής Παθολογίας-Υπέρτασης\, Κέντρο Υπέρτασης STRIDE-7\, Ε.Κ.Π.Α.\, Ιατρική Σχολή\, Γ’ Παθολογική Κλινική\, Γ.Ν.Ν.Θ.Α. «Η Σωτηρία» \nΣΤΕΦΑΝΙΔΗΣ ΓΕΡΑΣΙΜΟΣ\nΔιευθυντής Γαστρεντερολογικής Κλινικής\, Ν.Ν.Α. \nΤΑΜΠΑΚΟΠΟΥΛΟΣ ΔΗΜΗΤΡΙΟΣ\nΔιευθυντής Γαστρεντερολογικής Κλινικής\, Ευρωκλινική Αθηνών \nΤΕΝΤΟΛΟΥΡΗΣ ΝΙΚΟΛΑΟΣ\nMD\, Ιατρική Σχολή\, Ε.Κ.Π.Α.\, Α’ Προπαιδευτική Παθολογική Κλινική\, Γ.Ν.Α. «Λαϊκό» \nΤΡΙΑΝΤΑΦΥΛΛΟΥ ΚΩΝΣΤΑΝΤΙΝΟΣ\nΑναπληρωτής Καθηγητής Γαστρεντερολογίας\, Ε.Κ.Π.Α. \nΤΡΙΑΝΤΟΣ ΧΡΗΣΤΟΣ\nΕπιμελητής Α’ Ε.Σ.Υ.\, Γαστρεντερολόγος\, Π.Π.Γ.Ν. Πατρών \nΤΣΙΡΩΝΗ ΕΥΤΥΧΙΑ\nΓαστρεντερολόγος\, Επιμελήτρια Α’\, ΕΑΜΠ Μεταξά \nΧΑΤΖΗΔΑΚΗΣ ΑΔΑΜ\nΑναπληρωτής Καθηγητής Αγγειοακτινολογίας και Επεμβατικής Ακτινολογίας\, Πανεπιστήμιο Κρήτης \nΧΟΛΟΓΚΙΤΑΣ ΕΥΑΓΓΕΛΟΣ\nMD\, PhD\, Αναπληρωτής Καθηγητής Παθολογίας\, Α’ Παθολογική Κλινική\, Ιατρική Σχολή\, Ε.Κ.Π.Α. \nΧΡΙΣΤΟΔΟΥΛΟΥ ΔΗΜΗΤΡΙΟΣ\nΑναπληρωτής Καθηγητής Γαστρεντερολογίας\, Τμήμα Ιατρικής Πανεπιστημίου Ιωαννίνων\, Διευθυντής Γαστρεντερολογικής Κλινικής\, Π.Γ.Ν. Ιωαννίνων \n\n\n					\n				ΓΕΝΙΚΕΣ ΠΛΗΡΟΦΟΡΙΕΣΗΜΕΡΟΜΗΝΙΑ & ΤΟΠΟΣ ΔΙΕΞΑΓΩΓΗΣ ΤΟΥ ΣΥΝΕΔΡΙΟΥ23-25 Φεβρουαρίου 2018\nΑθήνα\, Αίγλη Ζαππείου\, Αίθουσα Ολυμπία\nΘα χορηγηθούν 19 μόρια Συνεχιζόμενης Ιατρικής Εκπαίδευσης (CME-CPD credits) από τον Πανελλήνιο Ιατρικό Σύλλογο \nΟΡΓΑΝΩΣΗ ΚΑΙ ΓΡΑΜΜΑΤΕΙΑ ΣΥΝΕΔΡΙΟΥΕΛ.Ι.ΓΑΣΤ\nΜαιάνδρου 15\n 115 28 Αθήνα\n Τηλ. επικοιν.: 210 723 1332\n E-mail: info@eligast.gr \nΓραμματεία\nFocus on Health\nΙωάννου Γενναδίου 16\n 115 21 Αθήνα\n Τηλ. επικοιν.: 210 722 3046\n E-mail: info@focusonhealth.gr \nΕΚΘΕΣΗΣτο πλαίσιο της Εκπαιδευτικής Συνάντησης διοργανώνεται Έκθεση Εταιρειών Φαρμακευτικών Προϊόντων \nΜΟΡΙΑ ΣΥΝΕΧΙΖΟΜΕΝΗΣ ΙΑΤΡΙΚΗΣ ΕΚΠΑΙΔΕΥΣΗΣΘα χορηγηθούν 19 μόρια Συνεχιζόμενης Ιατρικής Εκπαίδευσης (CME-CPD credits) από τον Πανελλήνιο Ιατρικό Σύλλογο\, με την προϋπόθεση συμπλήρωσης παρουσίας τουλάχιστον 60% του συνολικού χρόνου εργασιών \nBADGESΣτις εισόδους των αιθουσών συνεδριάσεων θα υπάρχουν σαρωτές (scanners). Οι σύνεδροι θα πρέπει να σαρώνουν (scan) σε κάθε είσοδο/έξοδό τους από την αίθουσα το γραμμωτό κώδικα (barcode) που θα υπάρχει προ-εκτυπωμένος στην κονκάρδα με το ονοματεπώνυμό τους\, την οποία θα παραλάβουν από τη Γραμματεία κατά την εγγραφή τους \nΦΩΤΟΓΡΑΦΙΣΗ/ΒΙΝΤΕΟΣΚΟΠΗΣΗΠαρακαλούμε σημειώστε ότι κατά τη διάρκεια της εκδήλωσης θα γίνεται φωτογράφιση ή/και βιντεοσκόπηση από τη διοργανώτρια εταιρεία. Με την εγγραφή σας στην εκδήλωση συναινείτε στην παράδοση του υλικού στους Οργανωτές και την πιθανή δημοσίευσή τους σε έντυπα ή ηλεκτρονικά μέσα
URL:https://www.epege.gr/event/13%ce%b7-%cf%80%ce%b1%ce%bd%ce%b5%ce%bb%ce%bb%ce%ae%ce%bd%ce%b9%ce%b1-%ce%b5%ce%ba%cf%80%ce%b1%ce%b9%ce%b4%ce%b5%cf%85%cf%84%ce%b9%ce%ba%ce%ae-%cf%83%cf%85%ce%bd%ce%ac%ce%bd%cf%84%ce%b7%cf%83%ce%b7/
LOCATION:Αίγλη Ζαππείου\, Κήπος Ζαππείου\, Αθήνα\, 105 57
CATEGORIES:Συνέδριο
ATTACH;FMTTYPE=image/jpeg:https://www.epege.gr/wp-content/uploads/2018/02/13-ekpaideftiki-synantisi-eligast.jpg
END:VEVENT
END:VCALENDAR