BEGIN:VCALENDAR
VERSION:2.0
PRODID:-//ΕΠΕΓΕ - ECPv6.15.20//NONSGML v1.0//EN
CALSCALE:GREGORIAN
METHOD:PUBLISH
X-WR-CALNAME:ΕΠΕΓΕ
X-ORIGINAL-URL:https://www.epege.gr
X-WR-CALDESC:Events for ΕΠΕΓΕ
REFRESH-INTERVAL;VALUE=DURATION:PT1H
X-Robots-Tag:noindex
X-PUBLISHED-TTL:PT1H
BEGIN:VTIMEZONE
TZID:Europe/Athens
BEGIN:DAYLIGHT
TZOFFSETFROM:+0200
TZOFFSETTO:+0300
TZNAME:EEST
DTSTART:20200329T010000
END:DAYLIGHT
BEGIN:STANDARD
TZOFFSETFROM:+0300
TZOFFSETTO:+0200
TZNAME:EET
DTSTART:20201025T010000
END:STANDARD
BEGIN:DAYLIGHT
TZOFFSETFROM:+0200
TZOFFSETTO:+0300
TZNAME:EEST
DTSTART:20210328T010000
END:DAYLIGHT
BEGIN:STANDARD
TZOFFSETFROM:+0300
TZOFFSETTO:+0200
TZNAME:EET
DTSTART:20211031T010000
END:STANDARD
BEGIN:DAYLIGHT
TZOFFSETFROM:+0200
TZOFFSETTO:+0300
TZNAME:EEST
DTSTART:20220327T010000
END:DAYLIGHT
BEGIN:STANDARD
TZOFFSETFROM:+0300
TZOFFSETTO:+0200
TZNAME:EET
DTSTART:20221030T010000
END:STANDARD
BEGIN:DAYLIGHT
TZOFFSETFROM:+0200
TZOFFSETTO:+0300
TZNAME:EEST
DTSTART:20230326T010000
END:DAYLIGHT
BEGIN:STANDARD
TZOFFSETFROM:+0300
TZOFFSETTO:+0200
TZNAME:EET
DTSTART:20231029T010000
END:STANDARD
BEGIN:DAYLIGHT
TZOFFSETFROM:+0200
TZOFFSETTO:+0300
TZNAME:EEST
DTSTART:20240331T010000
END:DAYLIGHT
BEGIN:STANDARD
TZOFFSETFROM:+0300
TZOFFSETTO:+0200
TZNAME:EET
DTSTART:20241027T010000
END:STANDARD
BEGIN:DAYLIGHT
TZOFFSETFROM:+0200
TZOFFSETTO:+0300
TZNAME:EEST
DTSTART:20250330T010000
END:DAYLIGHT
BEGIN:STANDARD
TZOFFSETFROM:+0300
TZOFFSETTO:+0200
TZNAME:EET
DTSTART:20251026T010000
END:STANDARD
BEGIN:DAYLIGHT
TZOFFSETFROM:+0200
TZOFFSETTO:+0300
TZNAME:EEST
DTSTART:20260329T010000
END:DAYLIGHT
BEGIN:STANDARD
TZOFFSETFROM:+0300
TZOFFSETTO:+0200
TZNAME:EET
DTSTART:20261025T010000
END:STANDARD
END:VTIMEZONE
BEGIN:VEVENT
DTSTART;VALUE=DATE:20211204
DTEND;VALUE=DATE:20211206
DTSTAMP:20260420T213547
CREATED:20210202T082438Z
LAST-MODIFIED:20211201T164740Z
UID:4921-1638576000-1638748799@www.epege.gr
SUMMARY:Πλάνες & Λάθη στη Γαστρεντερολογία
DESCRIPTION:Πρόγραμμα Εκδήλωσης : \nhttps://www.epege.gr/wp-content/uploads/2021/12/18epege2021-teliko-program.pdf
URL:https://www.epege.gr/event/%cf%80%ce%bb%ce%ac%ce%bd%ce%b5%cf%82-%ce%bb%ce%ac%ce%b8%ce%b7-%cf%83%cf%84%ce%b7-%ce%b3%ce%b1%cf%83%cf%84%cf%81%ce%b5%ce%bd%cf%84%ce%b5%cf%81%ce%bf%ce%bb%ce%bf%ce%b3%ce%af%ce%b1-2/
LOCATION:Divani Caravel Hotel\, Βασιλέως Αλεξάνδρου 2\, Αθήνα\, Αττική\, 161 21\, Greece
CATEGORIES:Διημερίδα
ATTACH;FMTTYPE=image/jpeg:https://www.epege.gr/wp-content/uploads/2021/02/Afisa_epege_2021_4.jpg
ORGANIZER;CN="%CE%95%CE%A0.%CE%95.%CE%93.%CE%95.":MAILTO:info@epege.gr
END:VEVENT
BEGIN:VEVENT
DTSTART;VALUE=DATE:20220701
DTEND;VALUE=DATE:20220703
DTSTAMP:20260420T213547
CREATED:20191014T073011Z
LAST-MODIFIED:20210525T131424Z
UID:2488-1656633600-1656806399@www.epege.gr
SUMMARY:5th AISDD 2022
DESCRIPTION:
URL:https://www.epege.gr/event/5th-aisdd-2022/
LOCATION:Megaron Athens International Conference Centre\, Λεωφ. Βασιλίσσης Σοφίας & Κόκκαλη 1\, Αθήνα\, Αττικής\, 115 21
CATEGORIES:Συνέδριο
ATTACH;FMTTYPE=image/jpeg:https://www.epege.gr/wp-content/uploads/2021/05/adv_AISDD2022_105X148.jpg
END:VEVENT
BEGIN:VEVENT
DTSTART;VALUE=DATE:20221202
DTEND;VALUE=DATE:20221205
DTSTAMP:20260420T213547
CREATED:20220309T131235Z
LAST-MODIFIED:20221201T154138Z
UID:5102-1669939200-1670198399@www.epege.gr
SUMMARY:19η Πανελλήνια Επιστημονική Εκδήλωση της ΕΠΕΓΕ | 2 - 4 Δεκεμβρίου 2022
DESCRIPTION:ΠΡΟΒΟΛΗ ΠΡΟΓΡΑΜΜΑΤΟΣ
URL:https://www.epege.gr/event/19-epistimoniki-ekdilosi-epege/
LOCATION:Divani Caravel Hotel\, Βασιλέως Αλεξάνδρου 2\, Αθήνα\, Αττική\, 161 21\, Greece
CATEGORIES:Διημερίδα
ATTACH;FMTTYPE=image/jpeg:https://www.epege.gr/wp-content/uploads/2022/03/19H-PANELLHNIA-EPST.-EKDILOSH_GASRENTEROLOGIA_42X58.jpg
ORGANIZER;CN="%CE%95%CE%A0.%CE%95.%CE%93.%CE%95.":MAILTO:info@epege.gr
END:VEVENT
BEGIN:VEVENT
DTSTART;VALUE=DATE:20230525
DTEND;VALUE=DATE:20230529
DTSTAMP:20260420T213547
CREATED:20230515T060816Z
LAST-MODIFIED:20230515T060816Z
UID:5428-1684972800-1685318399@www.epege.gr
SUMMARY:21o Πανελλήνιο Συνέδριο Ιδιοπαθών Φλεγμονωδών Νόσων του Εντέρου
DESCRIPTION:
URL:https://www.epege.gr/event/eomifne2023/
LOCATION:Valis Hotel & Conference Center\, Αγριά\, Βόλος\, Ελλάδα
CATEGORIES:Συνέδριο
ATTACH;FMTTYPE=image/gif:https://www.epege.gr/wp-content/uploads/2023/05/unnamed.gif
ORGANIZER;CN="%CE%95%CE%BB%CE%BB%CE%B7%CE%BD%CE%B9%CE%BA%CE%AE %CE%9F%CE%BC%CE%AC%CE%B4%CE%B1 %CE%9C%CE%B5%CE%BB%CE%AD%CF%84%CE%B7%CF%82 %CF%84%CF%89%CE%BD %CE%99%CE%B4%CE%B9%CE%BF%CF%80%CE%B1%CE%B8%CF%8E%CE%BD %CE%A6%CE%BB%CE%B5%CE%B3%CE%BC%CE%BF%CE%BD%CF%89%CE%B4%CF%8E%CE%BD %CE%9D%CE%BF%CF%83%CE%B7%CE%BC%CE%AC%CF%84%CF%89%CE%BD %CF%84%CE%BF%CF%85 %CE%95%CE%BD%CF%84%CE%AD%CF%81%CE%BF%CF%85":MAILTO:info@eomifne.gr
END:VEVENT
BEGIN:VEVENT
DTSTART;VALUE=DATE:20230612
DTEND;VALUE=DATE:20230616
DTSTAMP:20260420T213547
CREATED:20250603T140750Z
LAST-MODIFIED:20250603T140750Z
UID:6046-1686528000-1686873599@www.epege.gr
SUMMARY:23o Πανελλήνιο Συνέδριο Ιδιοπαθών Φλεγμονωδών Νόσων του Εντέρου
DESCRIPTION:
URL:https://www.epege.gr/event/eomifne2025/
LOCATION:Elite City Hotel Καλαματα\, Ναυαρίνου 237\, Καλαμάτα\, 24100\, Greece
CATEGORIES:Συνέδριο
ATTACH;FMTTYPE=image/webp:https://www.epege.gr/wp-content/uploads/2025/06/al48901_us1274_20240617114219_122_1920x10801280.webp
ORGANIZER;CN="%CE%95%CE%BB%CE%BB%CE%B7%CE%BD%CE%B9%CE%BA%CE%AE %CE%9F%CE%BC%CE%AC%CE%B4%CE%B1 %CE%9C%CE%B5%CE%BB%CE%AD%CF%84%CE%B7%CF%82 %CF%84%CF%89%CE%BD %CE%99%CE%B4%CE%B9%CE%BF%CF%80%CE%B1%CE%B8%CF%8E%CE%BD %CE%A6%CE%BB%CE%B5%CE%B3%CE%BC%CE%BF%CE%BD%CF%89%CE%B4%CF%8E%CE%BD %CE%9D%CE%BF%CF%83%CE%B7%CE%BC%CE%AC%CF%84%CF%89%CE%BD %CF%84%CE%BF%CF%85 %CE%95%CE%BD%CF%84%CE%AD%CF%81%CE%BF%CF%85":MAILTO:info@eomifne.gr
END:VEVENT
BEGIN:VEVENT
DTSTART;VALUE=DATE:20230922
DTEND;VALUE=DATE:20230925
DTSTAMP:20260420T213547
CREATED:20230515T061550Z
LAST-MODIFIED:20230515T061622Z
UID:5437-1695340800-1695599999@www.epege.gr
SUMMARY:15η Ηπατο-Γαστρεντερολογική Εκδήλωση
DESCRIPTION:
URL:https://www.epege.gr/event/15%ce%b7-%ce%b7%cf%80%ce%b1%cf%84%ce%bf-%ce%b3%ce%b1%cf%83%cf%84%cf%81%ce%b5%ce%bd%cf%84%ce%b5%cf%81%ce%bf%ce%bb%ce%bf%ce%b3%ce%b9%ce%ba%ce%ae-%ce%b5%ce%ba%ce%b4%ce%ae%ce%bb%cf%89%cf%83%ce%b7/
LOCATION:Du Lac\, Κ. Παπούλια & Ίκκου\, Ιωάννινα\, Ελλάδα\, 45221
CATEGORIES:Συνέδριο
ATTACH;FMTTYPE=image/png:https://www.epege.gr/wp-content/uploads/2023/05/1200X630.png
END:VEVENT
BEGIN:VEVENT
DTSTART;VALUE=DATE:20231020
DTEND;VALUE=DATE:20231023
DTSTAMP:20260420T213547
CREATED:20230329T110438Z
LAST-MODIFIED:20231017T175729Z
UID:5399-1697760000-1698019199@www.epege.gr
SUMMARY:20η Πανελλήνια Επιστημονική Εκδήλωση της ΕΠΕΓΕ | 20 - 22 Οκτωβρίου 2023
DESCRIPTION:ΑΝΑΚΟΙΝΩΣΗ ΓΙΑ ΤΗΝ 20η ΠΑΝΕΛΛΗΝΙΑ ΕΚΔΗΛΩΣΗ ΕΠΕΓΕΠΡΟΓΡΑΜΜΑ ΕΚΔΗΛΩΣΗΣ
URL:https://www.epege.gr/event/20-epistimoniki-ekdilosi-epege/
LOCATION:Divani Caravel Hotel\, Βασιλέως Αλεξάνδρου 2\, Αθήνα\, Αττική\, 161 21\, Greece
CATEGORIES:Διημερίδα
ATTACH;FMTTYPE=image/jpeg:https://www.epege.gr/wp-content/uploads/2023/05/ΑΦΙΣΑ-2023-scaled.jpg
ORGANIZER;CN="%CE%95%CE%A0.%CE%95.%CE%93.%CE%95.":MAILTO:info@epege.gr
END:VEVENT
BEGIN:VEVENT
DTSTART;VALUE=DATE:20230515
DTEND;VALUE=DATE:20230516
DTSTAMP:20260420T213547
CREATED:20230510T093732Z
LAST-MODIFIED:20230510T093841Z
UID:5418-1684108800-1684195199@www.epege.gr
SUMMARY:Παγκόσμια Ημέρα Ιδιοπαθών Φλεγμονωδών Νοσημάτων του Εντέρου
DESCRIPTION:Σχετικά με την ΕΟΜΙΦΝΕ \nhttps://eomifne.gr/ \nSocial: https://www.linkedin.com/company/eomifne & https://www.facebook.com/eomifne \nΗ Ελληνική Ομάδα Μελέτης Ιδιοπαθών Φλεγμονωδών Νόσων του Εντέρου (ΕΟΜΙΦΝΕ) είναι ένα ιατρικό σωματείο\, του οποίου τα μέλη είναι επιστήμονες υγείας που ασχολούνται με την Ελκώδη Κολίτιδα & τη Νόσο του Crohn. Ιδρύθηκε το 2001 και από το 2002 και μετά οργανώνει το ετήσιο πανελλήνιο συνέδριο ΙΦΝΕ. Η ΕΟΜΙΦΝΕ είναι ενεργό μέλος της ECCO (European Crohn’s & Colitis Organization)\, ενώ μέλη της συμμετέχουν σε πολλούς Διεθνείς Οργανισμούς με αντίστοιχο αντικείμενο. Σκοπός της εταιρείας είναι η διαρκής βελτίωση της παροχής υπηρεσιών υγείας στους ασθενείς με ΙΦΝΕ\, η εκπαίδευση των Ελλήνων ιατρών στην διαχείριση των ασθενών και η προαγωγή της έρευνας στο πεδίο των νοσημάτων αυτών. \nΣχετικά με τον Σύλλογο Ατόμων με νόσο του Crohn και Ελκώδη Κολίτιδα Ελλάδας \nhttps://www.crohnhellas.gr/\nSocial: https://www.facebook.com/Hellescc & https://twitter.com/hellescc \nO Σύλλογος Ατόμων με Νόσο του Crohn και Ελκώδη Κολίτιδα Αττικής ιδρύθηκε το 2006 από μια ομάδα ασθενών και τροποποίησε το καταστατικό του το 2014 για να «αγκαλιάσει» τους ασθενείς με ΙΦΝΕ από όλη την Ελλάδα\, με αποτέλεσμα τη δημιουργία του Συλλόγου Ατόμων με νόσο του Crohn και Ελκώδη Κολίτιδα Ελλάδας (HELLESCC).
URL:https://www.epege.gr/event/ifne-15-5-2023/
LOCATION:Κήποι Γενναδείου Βιβλιοθήκης\, Αναπήρων Πολέμου 9\, Κολωνάκι\, Αττικής\, Ελλάδα
CATEGORIES:Ημερίδα
ATTACH;FMTTYPE=image/jpeg:https://www.epege.gr/wp-content/uploads/2023/05/ifne-scaled.jpg
ORGANIZER;CN="%CE%95%CE%BB%CE%BB%CE%B7%CE%BD%CE%B9%CE%BA%CE%AE %CE%9F%CE%BC%CE%AC%CE%B4%CE%B1 %CE%9C%CE%B5%CE%BB%CE%AD%CF%84%CE%B7%CF%82 %CF%84%CF%89%CE%BD %CE%99%CE%B4%CE%B9%CE%BF%CF%80%CE%B1%CE%B8%CF%8E%CE%BD %CE%A6%CE%BB%CE%B5%CE%B3%CE%BC%CE%BF%CE%BD%CF%89%CE%B4%CF%8E%CE%BD %CE%9D%CE%BF%CF%83%CE%B7%CE%BC%CE%AC%CF%84%CF%89%CE%BD %CF%84%CE%BF%CF%85 %CE%95%CE%BD%CF%84%CE%AD%CF%81%CE%BF%CF%85":MAILTO:info@eomifne.gr
END:VEVENT
BEGIN:VEVENT
DTSTART;VALUE=DATE:20231123
DTEND;VALUE=DATE:20231127
DTSTAMP:20260420T213547
CREATED:20230515T062353Z
LAST-MODIFIED:20230515T062944Z
UID:5445-1700697600-1701043199@www.epege.gr
SUMMARY:43ο Πανελλήνιο Συνέδριο Γαστρεντερολογίας
DESCRIPTION:
URL:https://www.epege.gr/event/43%ce%bf-%cf%80%ce%b1%ce%bd%ce%b5%ce%bb%ce%bb%ce%ae%ce%bd%ce%b9%ce%bf-%cf%83%cf%85%ce%bd%ce%ad%ce%b4%cf%81%ce%b9%ce%bf/
LOCATION:Ξενοδοχείο Makedonia Palace\, Λεωφ. Μεγ. Αλεξάνδρου 2\, Θεσσαλονίκη\, 546 40
CATEGORIES:Συνέδριο
ATTACH;FMTTYPE=image/png:https://www.epege.gr/wp-content/uploads/2023/05/Χωρίς-τίτλο.png
ORGANIZER;CN="%CE%95%CE%BB%CE%BB%CE%B7%CE%BD%CE%B9%CE%BA%CE%AE %CE%93%CE%B1%CF%83%CF%84%CF%81%CE%B5%CE%BD%CF%84%CE%B5%CF%81%CE%BF%CE%BB%CE%BF%CE%B3%CE%B9%CE%BA%CE%AE %CE%95%CF%84%CE%B1%CE%B9%CF%81%CE%B5%CE%AF%CE%B1":MAILTO:info@hsg.gr
END:VEVENT
BEGIN:VEVENT
DTSTART;VALUE=DATE:20231203
DTEND;VALUE=DATE:20231207
DTSTAMP:20260420T213547
CREATED:20230515T062639Z
LAST-MODIFIED:20230515T062639Z
UID:5448-1701561600-1701907199@www.epege.gr
SUMMARY:17th European Colorectal Congress 3 Δεκεμβρίου - 6 Δεκεμβρίου
DESCRIPTION:
URL:https://www.epege.gr/event/17th-european-colorectal-congress-3-%ce%b4%ce%b5%ce%ba%ce%b5%ce%bc%ce%b2%cf%81%ce%af%ce%bf%cf%85-6-%ce%b4%ce%b5%ce%ba%ce%b5%ce%bc%ce%b2%cf%81%ce%af%ce%bf%cf%85/
CATEGORIES:Συνέδριο
ATTACH;FMTTYPE=image/png:https://www.epege.gr/wp-content/uploads/2023/05/ECC2023_Banner.png
END:VEVENT
BEGIN:VEVENT
DTSTART;TZID=Europe/Athens:20240112T000000
DTEND;TZID=Europe/Athens:20240114T235900
DTSTAMP:20260420T213547
CREATED:20240108T123620Z
LAST-MODIFIED:20240108T123824Z
UID:5583-1705017600-1705276740@www.epege.gr
SUMMARY:4ο Εντατικό Σεμινάριο στις ΙΦΝΕ και Ανοσιακές Παθήσεις του Πεπτικού Συστήματος
DESCRIPTION:
URL:https://www.epege.gr/event/4-entatiko-seminario/
LOCATION:Grand Hyatt Athens\, Αθήνα
CATEGORIES:Σεμινάριο
ATTACH;FMTTYPE=image/jpeg:https://www.epege.gr/wp-content/uploads/2024/01/ifne_social-card.jpg
END:VEVENT
BEGIN:VEVENT
DTSTART;VALUE=DATE:20240418
DTEND;VALUE=DATE:20240422
DTSTAMP:20260420T213547
CREATED:20231025T190335Z
LAST-MODIFIED:20231025T190424Z
UID:5558-1713398400-1713743999@www.epege.gr
SUMMARY:29ο Συνέδριο Ελικοβακτηριδίου του πυλωρού και ανθρωπίνου μικροβιώματος
DESCRIPTION:
URL:https://www.epege.gr/event/29-synedrio-elikovaktiridiou/
LOCATION:Ξενοδοχείο Montana\, Καρπενήσι\, Καρπενήσι\, Ελλάδα
CATEGORIES:Συνέδριο
ATTACH;FMTTYPE=image/jpeg:https://www.epege.gr/wp-content/uploads/2023/10/afisaElikovaktiridio-scaled-1.jpg
END:VEVENT
BEGIN:VEVENT
DTSTART;VALUE=DATE:20240424
DTEND;VALUE=DATE:20240428
DTSTAMP:20260420T213547
CREATED:20231025T185032Z
LAST-MODIFIED:20231025T185041Z
UID:5550-1713916800-1714262399@www.epege.gr
SUMMARY:22o Πανελλήνιο Ηπατολογικό Συνέδριο
DESCRIPTION:
URL:https://www.epege.gr/event/22-ypatologiko-synedrio/
LOCATION:Κέντρο Αρχιτεκτονικής της Μεσογείου\, Μεγάλο Αρσενάλο\, Χανιά\, Ελλάδα
CATEGORIES:Συνέδριο
ATTACH;FMTTYPE=image/jpeg:https://www.epege.gr/wp-content/uploads/2023/10/ΗΠΑΤΟΛΟΓΙΚΟ.jpg
ORGANIZER;CN="%CE%95%CE%BB%CE%BB%CE%B7%CE%BD%CE%B9%CE%BA%CE%AE %CE%95%CF%84%CE%B1%CE%B9%CF%81%CE%B5%CE%AF%CE%B1 %CE%9C%CE%B5%CE%BB%CE%AD%CF%84%CE%B7%CF%82 %CE%97%CF%80%CE%B1%CF%84%CE%BF%CF%82":MAILTO:info@eemh.gr
END:VEVENT
BEGIN:VEVENT
DTSTART;VALUE=DATE:20240920
DTEND;VALUE=DATE:20240923
DTSTAMP:20260420T213547
CREATED:20240610T115041Z
LAST-MODIFIED:20240610T115059Z
UID:5861-1726790400-1727049599@www.epege.gr
SUMMARY:16η Ηπατο-Γαστρεντερολογική Εκδήλωση
DESCRIPTION:
URL:https://www.epege.gr/event/16%ce%b7-%ce%b7%cf%80%ce%b1%cf%84%ce%bf-%ce%b3%ce%b1%cf%83%cf%84%cf%81%ce%b5%ce%bd%cf%84%ce%b5%cf%81%ce%bf%ce%bb%ce%bf%ce%b3%ce%b9%ce%ba%ce%ae-%ce%b5%ce%ba%ce%b4%ce%ae%ce%bb%cf%89%cf%83%ce%b7/
LOCATION:Grand Serai\, Ioannina
CATEGORIES:Συνέδριο
ATTACH;FMTTYPE=image/png:https://www.epege.gr/wp-content/uploads/2024/06/1146x270.png
END:VEVENT
BEGIN:VEVENT
DTSTART;VALUE=DATE:20241004
DTEND;VALUE=DATE:20241007
DTSTAMP:20260420T213547
CREATED:20240408T122848Z
LAST-MODIFIED:20241003T123650Z
UID:5661-1728000000-1728259199@www.epege.gr
SUMMARY:21η Πανελλήνια Επιστημονική Εκδήλωση της ΕΠΕΓΕ | 4 - 6 Οκτωβρίου 2024
DESCRIPTION:ΑΝΑΚΟΙΝΩΣΗ ΓΙΑ ΤΗΝ 21η ΠΑΝΕΛΛΗΝΙΑ ΕΚΔΗΛΩΣΗ ΕΠΕΓΕΠΡΟΓΡΑΜΜΑ ΕΚΔΗΛΩΣΗΣ\n\n\n\n\n21η ΠΑΝΕΛΛΗΝΙΑ ΕΠΙΣΤΗΜΟΝΙΚΗ  \nΕΚΔΗΛΩΣΗ ΕΠ.Ε.Γ.Ε. \n “Σύγχρονες προσεγγίσεις  \nσε νοσήματα οισοφάγου στομάχου” \n\n\n\n\n\n\n‍Αγαπητές και Αγαπητοί Συνάδελφοι\, \nΜε μεγάλη χαρά\, σας προσκαλώ στη  21η Πανελλήνια Επιστημονική Εκδήλωση της Επαγγελματικής Ένωσης Γαστρεντερολόγων Ελλάδας (ΕΠ.Ε.Γ.Ε.) με τίτλο «Σύγχρονες προσεγγίσεις σε νοσήματα οισοφάγου στομάχου»\, που θα πραγματοποιηθεί στις 4 – 6 Οκτωβρίου 2024 στην Αθήνα\, στο ξενοδοχείο DIVANI CARAVEL. \nΤο επιστημονικό πρόγραμμα θα σχεδιαστεί με γνώμονα τη σύγχρονη θεματολογία\, περιλαμβάνοντας ενδιαφέρουσες διαλέξεις\, στρογγυλά τραπέζια\, δορυφορικά συμπόσια και αντιπαραθέσεις από διεθνώς καταξιωμένους Έλληνες επιστήμονες\, δίνοντας παράλληλα βήμα και στη νέα γενιά. Το πρόγραμμα θα καταρτιστεί με βάση τις προτάσεις του Δ.Σ. της ΕΠ.Ε.Γ.Ε. και της Οργανωτικής Επιτροπής και θα καλύπτει τομείς ιδιαίτερου ενδιαφέροντος σε όλο το φάσμα της κλινικής\, ενδοσκοπικής και επεμβατικής Γαστρεντερολογίας αναφορικά με τα νοσήματα οισοφάγου και στομάχου. Οι διαφόρου τύπου συνεδρίες θα στηρίζονται στην επιστημονικότητα και το διάλογο\, στοχεύοντας στην ανάδειξη των σύγχρονων τάσεων στην Γαστρεντερολογία\, δίδοντας την ευκαιρία στους συναδέρφους να αποκτήσουν σύγχρονες γνώσεις και δεξιότητες με στόχο την εφαρμογή τους στη σύγχρονη καθημερινή ιατρική πρακτική. \nΠιστεύω ότι το πρόγραμμα της 21ης Πανελλήνιας Επιστημονικής Εκδήλωσης της Επαγγελματικής Ένωσης Γαστρεντερολόγων Ελλάδας\, θα ανταποκριθεί στις προσδοκίες σας για την απόκτηση και την ανανέωση υψηλού επιπέδου γνώσεων\, θα δώσει  την ευκαιρία για έναν ζωντανό διάλογο μεταξύ των συναδέρφων και θα αναδείξει τις προόδους της σύγχρονης Γαστρεντερολογίας. \nΜε εκτίμηση\, \nΑνδρέας Καψωριτάκης \nΚαθηγητής Παθολογίας – Γαστρεντερολογίας\,  \nΠανεπιστημίου Θεσσαλίας \nΠρόεδρος Οργανωτικής Επιτροπής \n21ης Πανελλήνιας Επιστημονικής Εκδήλωσης  \nτης Επαγγελματικής Ένωσης Γαστρεντερολόγων Ελλάδας \n\n\n\n\n\n\n\n\n\nΟΡΓΑΝΩΤΙΚΗ ΕΠΙΤΡΟΠΗ \nΠρόεδρος: Α. Καψωριτάκης \nΜέλη: Δ.Σ. ΕΠ.Ε.Γ.Ε. \nΔ.Σ. ΕΠ.Ε.Γ.Ε. \nΠρόεδρος: Σ. Γούλας \nΑντιπρόεδρος: Α. Κωφοκώτσιος \nΓεν. Γραμματέας: Η. Γρίβας \nΕιδ. Γραμματέας: Π. Πολύζου \nΤαμίας: Γ. Τζιάτζιος \nΜέλη: Δ. Δανδάκης\, Ν. Μαργέτης\n\n\n\n\n\n\n\n\n\nΒΑΣΙΚΗ ΘΕΜΑΤΟΛΟΓΙΑ \nΓια να ενημερωθείτε για τη βασική θεματολογία του Συνεδρίου\,  \nπατήστε ακολούθως: \n\n\n\n\n\n\n\n\n\n\n\n\n\n\n\n\n\n\nΔΙΚΑΙΩΜΑ ΣΥΜΜΕΤΟΧΗΣ \nΓαστρεντερολόγοι/Μέλη ΕΠ.Ε.Γ.Ε. : 50€ (ετήσια συνδρομή) \nΜη μέλη ΕΠ.Ε.Γ.Ε. : 50€ \nΕιδικευόμενοι – Νοσηλευτές – Φοιτητές : ΔΩΡΕΑΝ \n\n\n\n\n\n\n\n\n\n\n\n\n\n‍Στο πλαίσιο του Συνεδρίου\, θα χορηγηθούν Μόρια Συνεχιζόμενης  \nΙατρικής Μετεκπαίδευσης (CME-CPD Credits) από τον Πανελλήνιο Ιατρικό Σύλλογο (Π.Ι.Σ.). \n\n\n\n\n\n\n\n\n\n\n\nΣεμινάριο Αναζωογόνησης ILS – 4 Οκτωβρίου 2024 \nΚόστος συμμετοχής : 120€ \n\n\n\n\n\n\n\n\n\n\n\n\n\n*Περιορισμένος αριθμός συμμετεχόντων
URL:https://www.epege.gr/event/21-epistimoniki-ekdilosi-epege/
LOCATION:Divani Caravel Hotel\, Βασιλέως Αλεξάνδρου 2\, Αθήνα\, Αττική\, 161 21\, Greece
CATEGORIES:Διημερίδα
ATTACH;FMTTYPE=image/png:https://www.epege.gr/wp-content/uploads/2024/04/IMG_1057.png
ORGANIZER;CN="%CE%95%CE%A0.%CE%95.%CE%93.%CE%95.":MAILTO:info@epege.gr
END:VEVENT
BEGIN:VEVENT
DTSTART;VALUE=DATE:20241128
DTEND;VALUE=DATE:20241202
DTSTAMP:20260420T213547
CREATED:20240610T115355Z
LAST-MODIFIED:20240610T115355Z
UID:5865-1732752000-1733097599@www.epege.gr
SUMMARY:44ο Πανελλήνιο Συνέδριο Γαστρεντερολογίας
DESCRIPTION:
URL:https://www.epege.gr/event/44%ce%bf-%cf%80%ce%b1%ce%bd%ce%b5%ce%bb%ce%bb%ce%ae%ce%bd%ce%b9%ce%bf-%cf%83%cf%85%ce%bd%ce%ad%ce%b4%cf%81%ce%b9%ce%bf/
LOCATION:Divani Caravel Hotel\, Βασιλέως Αλεξάνδρου 2\, Αθήνα\, Αττική\, 161 21\, Greece
CATEGORIES:Συνέδριο
ATTACH;FMTTYPE=image/jpeg:https://www.epege.gr/wp-content/uploads/2024/06/gastro2024-afisa.jpg
ORGANIZER;CN="%CE%95%CE%BB%CE%BB%CE%B7%CE%BD%CE%B9%CE%BA%CE%AE %CE%93%CE%B1%CF%83%CF%84%CF%81%CE%B5%CE%BD%CF%84%CE%B5%CF%81%CE%BF%CE%BB%CE%BF%CE%B3%CE%B9%CE%BA%CE%AE %CE%95%CF%84%CE%B1%CE%B9%CF%81%CE%B5%CE%AF%CE%B1":MAILTO:info@hsg.gr
END:VEVENT
BEGIN:VEVENT
DTSTART;VALUE=DATE:20241213
DTEND;VALUE=DATE:20241216
DTSTAMP:20260420T213547
CREATED:20241008T192104Z
LAST-MODIFIED:20241008T192104Z
UID:5930-1734048000-1734307199@www.epege.gr
SUMMARY:Διεπιστημονική Προσέγγιση Ασθενών με Νεοπλασία Κατώτερου Πεπτικού Συστήματος και Ελάσσονος Πυέλου
DESCRIPTION:
URL:https://www.epege.gr/event/%ce%b4%ce%b9%ce%b5%cf%80%ce%b9%cf%83%cf%84%ce%b7%ce%bc%ce%bf%ce%bd%ce%b9%ce%ba%ce%ae-%cf%80%cf%81%ce%bf%cf%83%ce%ad%ce%b3%ce%b3%ce%b9%cf%83%ce%b7-%ce%b1%cf%83%ce%b8%ce%b5%ce%bd%cf%8e%ce%bd-%ce%bc/
LOCATION:Golden Age Hotel
CATEGORIES:Διημερίδα
ATTACH;FMTTYPE=image/jpeg:https://www.epege.gr/wp-content/uploads/2024/10/IMG_4072.jpeg
END:VEVENT
BEGIN:VEVENT
DTSTART;VALUE=DATE:20251023
DTEND;VALUE=DATE:20251027
DTSTAMP:20260420T213547
CREATED:20250603T141429Z
LAST-MODIFIED:20250603T141429Z
UID:6054-1761177600-1761523199@www.epege.gr
SUMMARY:45ο Πανελλήνιο Συνέδριο Γαστρεντερολογίας
DESCRIPTION:
URL:https://www.epege.gr/event/45%ce%bf-%cf%80%ce%b1%ce%bd%ce%b5%ce%bb%ce%bb%ce%ae%ce%bd%ce%b9%ce%bf-%cf%83%cf%85%ce%bd%ce%ad%ce%b4%cf%81%ce%b9%ce%bf/
LOCATION:Συνεδριακό & Πολιτιστικό Κέντρο Πανεπιστημίου Πατρών\, Πανεπιστημιούπολη Πατρών\, Πάτρα\, 26504\, Greece
CATEGORIES:Συνέδριο
ATTACH;FMTTYPE=image/png:https://www.epege.gr/wp-content/uploads/2025/06/45ο-scaled.png
ORGANIZER;CN="%CE%95%CE%BB%CE%BB%CE%B7%CE%BD%CE%B9%CE%BA%CE%AE %CE%93%CE%B1%CF%83%CF%84%CF%81%CE%B5%CE%BD%CF%84%CE%B5%CF%81%CE%BF%CE%BB%CE%BF%CE%B3%CE%B9%CE%BA%CE%AE %CE%95%CF%84%CE%B1%CE%B9%CF%81%CE%B5%CE%AF%CE%B1":MAILTO:info@hsg.gr
END:VEVENT
BEGIN:VEVENT
DTSTART;VALUE=DATE:20251205
DTEND;VALUE=DATE:20251208
DTSTAMP:20260420T213547
CREATED:20250520T152721Z
LAST-MODIFIED:20251203T092604Z
UID:6024-1764892800-1765151999@www.epege.gr
SUMMARY:22η Πανελλήνια Επιστημονική Εκδήλωση της ΕΠΕΓΕ | 5 - 7 Δεκεμβρίου 2025
DESCRIPTION:ΑΝΑΚΟΙΝΩΣΗ ΓΙΑ ΤΗΝ 22η ΠΑΝΕΛΛΗΝΙΑ ΕΚΔΗΛΩΣΗ ΕΠΕΓΕΑγαπητές και Αγαπητοί Συνάδελφοι\, \nΗ 22η Πανελλήνια Επιστημονική Εκδήλωση της Επαγγελματικής Ένωσης Γαστρεντερολόγων Ελλάδος (ΕΠ.Ε.ΓΕ) με τίτλο «Νοσήματα λεπτού και παχέος  εντέρου-Σύγχρονη Προσέγγιση» θα πραγματοποιηθεί στις 5-7 Δεκεμβρίου  2025 στην Αθήνα\, στο ξενοδοχείο DIVANI CARAVEL. \nΌπως όλοι γνωρίζετε η 22η Πανελλήνια Επιστημονική Εκδήλωση της Επαγγελματικής Ένωσης Γαστρεντερολόγων Ελλάδος (ΕΠ.Ε.ΓΕ) είναι μια  εκδήλωση με ξεκάθαρο χαρακτήρα και στόχευση. Μέσα από ένα σύνολο διαλέξεων\, στρογγυλών τραπεζών\, παρουσιάσεων ενδιαφερόντων περιστατικών\, δορυφορικών συμποσίων\, συζητήσεων αλλά και αντιπαραθέσεων\, θα γίνει προσπάθεια να μεταφέρουμε σύγχρονη γνώση\, κατευθυντήριες οδηγίες και πολύτιμες εμπειρίες\, που αφορούν κυρίως την καθημερινή πρακτική όλων μας στους χώρους εργασίας μας. \nΠαλαιότεροι καταξιωμένοι\, αλλά και νεότεροι άριστα εκπαιδευμένοι στην Ελλάδα και στο εξωτερικό συνάδελφοι\, θα επιλεγούν για να υποστηρίξουν με τις γνώσεις και τις εμπειρίες τους αυτή την εκδήλωση. \nΣτόχος μας είναι να απαντηθούν όσο το δυνατόν περισσότερα ερωτήματα από τους συμμετέχοντες\, έτσι ώστε να γίνουμε όλοι μας  «σοφότεροι» και  ικανότεροι να επιτελέσουμε το έργο μας με βάση τα πλέον σύγχρονα δεδομένα της επιστήμης\, προς όφελος των ασθενών μας αλλά και της κοινωνίας γενικότερα. \nΠαράλληλα για να εκπληρώνονται στο σύνολό τους οι στόχοι της ΕΠ.Ε.ΓΕ\,  θα επιδιώξουμε με θεσμικούς και άλλους τρόπους να συζητήσουμε αποτελεσματικά  προβλήματα\, δυνατότητες\, προτάσεις και διεκδικήσεις που αφορούν την άσκηση της Γαστρεντερολογίας στη χώρα μας. \nΜε την υπόσχεση ότι θα κάνουμε ό\,τι είναι δυνατόν για την επιτυχία της 22ης  Πανελλήνιας Επιστημονικής Εκδήλωσης της ΕΠ.Ε.Γ.Ε\, σας προσκαλούμε όλους να  συμμετέχετε ενεργά\, δεδομένου ότι η  ενεργό συμμετοχή σας αποτελεί την απολύτως αναγκαία  προϋπόθεση για την εκπλήρωση των στόχων της ΕΠΕΓΕ και θα συμβάλει αποτελεσματικά στην επιτυχία του Συνεδρίου. \nΜε εκτίμηση \nΔημήτριος Ψιλόπουλος \nΔιευθυντής Γαστρεντερολόγος \nΙατρικό Αθηνών\, Μαρούσι \nΠρόεδρος Οργανωτικής Επιτροπής \n22ης Πανελλήνιας Επιστημονικής Εκδήλωσης \nΠΡΟΓΡΑΜΜΑ ΕΚΔΗΛΩΣΗΣΑ. ΑΝΑΚΟΙΝΩΣΗ
URL:https://www.epege.gr/event/22-epistimoniki-ekdilosi-epege-2/
LOCATION:Divani Caravel Hotel\, Βασιλέως Αλεξάνδρου 2\, Αθήνα\, Αττική\, 161 21\, Greece
CATEGORIES:Διημερίδα
ATTACH;FMTTYPE=image/jpeg:https://www.epege.gr/wp-content/uploads/2025/05/22i-panellinia-epistimoniki-ekdilosi-afisa.jpg
ORGANIZER;CN="%CE%95%CE%A0.%CE%95.%CE%93.%CE%95.":MAILTO:info@epege.gr
END:VEVENT
END:VCALENDAR