BEGIN:VCALENDAR
VERSION:2.0
PRODID:-//ΕΠΕΓΕ - ECPv6.15.20//NONSGML v1.0//EN
CALSCALE:GREGORIAN
METHOD:PUBLISH
X-ORIGINAL-URL:https://www.epege.gr
X-WR-CALDESC:Events for ΕΠΕΓΕ
REFRESH-INTERVAL;VALUE=DURATION:PT1H
X-Robots-Tag:noindex
X-PUBLISHED-TTL:PT1H
BEGIN:VTIMEZONE
TZID:Europe/Athens
BEGIN:DAYLIGHT
TZOFFSETFROM:+0200
TZOFFSETTO:+0300
TZNAME:EEST
DTSTART:20250330T010000
END:DAYLIGHT
BEGIN:STANDARD
TZOFFSETFROM:+0300
TZOFFSETTO:+0200
TZNAME:EET
DTSTART:20251026T010000
END:STANDARD
BEGIN:DAYLIGHT
TZOFFSETFROM:+0200
TZOFFSETTO:+0300
TZNAME:EEST
DTSTART:20260329T010000
END:DAYLIGHT
BEGIN:STANDARD
TZOFFSETFROM:+0300
TZOFFSETTO:+0200
TZNAME:EET
DTSTART:20261025T010000
END:STANDARD
BEGIN:DAYLIGHT
TZOFFSETFROM:+0200
TZOFFSETTO:+0300
TZNAME:EEST
DTSTART:20270328T010000
END:DAYLIGHT
BEGIN:STANDARD
TZOFFSETFROM:+0300
TZOFFSETTO:+0200
TZNAME:EET
DTSTART:20271031T010000
END:STANDARD
END:VTIMEZONE
BEGIN:VEVENT
DTSTART;VALUE=DATE:20261004
DTEND;VALUE=DATE:20261007
DTSTAMP:20260421T223712
CREATED:20260421T120438Z
LAST-MODIFIED:20260421T120438Z
UID:6298-1791072000-1791331199@www.epege.gr
SUMMARY:23η Πανελλήνια Επιστημονική Εκδήλωση της ΕΠΕΓΕ | 2 - 4 Οκτωβρίου 2026
DESCRIPTION:ΑΝΑΚΟΙΝΩΣΗ ΓΙΑ ΤΗΝ 23η ΠΑΝΕΛΛΗΝΙΑ ΕΚΔΗΛΩΣΗ ΕΠΕΓΕΑγαπητοί Συνάδελφοι\, \nεκ μέρους της Οργανωτικής Επιτροπής\, σας προσκαλώ να συμμετάσχετε στην 23η Ετήσια Επιστημονική Εκδήλωση της Επαγγελματικής Ένωσης Γαστρεντερολόγων Ελλάδος (ΕΠ.Ε.Γ.Ε.)\, η οποία θα πραγματοποιηθεί στις 2-4 Οκτωβρίου 2026 στην Αθήνα (Ξενοδοχείο Royal Olympic)\, με τίτλο: «Επίκαιρα κλινικά διλήμματα στην Γαστρεντερολογία και Ηπατολογία. Από την αρχική διάγνωση στην εξατομικευμένη θεραπεία και παρακολούθηση» Αξιοποιώντας την εμπειρία των προηγούμενων ετών\, στόχος του φετινού συνεδρίου είναι να συμπυκνώσει τον μεγάλο όγκο των νέων επιστημονικών δεδομένων στη Γαστρεντερολογία και την Ηπατολογία. Με κύριο γνώμονα την εφαρμογή στην καθημερινή κλινική πράξη\, δίνουμε έμφαση στα πιο επίκαιρα ζητήματα της ειδικότητάς μας. Το επιστημονικό πρόγραμμα περιλαμβάνει στρογγυλά τραπέζια\, διαλέξεις\, αντιπαραθέσεις (debates)\, παρουσιάσεις ενδιαφερόντων περιστατικών και δορυφορικά συμπόσια\, με τη συμμετοχή καταξιωμένων επιστημόνων από την Ελλάδα και το εξωτερικό. Επιδίωξή μας είναι να συνδυάσουμε την εμπειρία των παλαιοτέρων με τον δυναμισμό των νεότερων συναδέλφων\, διασφαλίζοντας επαρκή χρόνο για γόνιμο διάλογο και ανταλλαγή προβληματισμών. Ευελπιστώ ότι η 23η Επιστημονική Εκδήλωση της ΕΠ.Ε.Γ.Ε. θα συμβάλει ουσιαστικά στην επικαιροποίηση των γνώσεων μας και στη βελτίωση της καθημερινής μας πρακτικής. Σας περιμένουμε όλους\, καθώς η δική σας συμμετοχή αποτελεί τον σημαντικότερο συντελεστή επιτυχίας αυτής της προσπάθειας \nΜε εκτίμηση\, \nΣπ. Μιχόπουλος \nΠρόεδρος Οργανωτικής Επιτροπής \nΦΟΡΜΑ ΕΓΓΡΑΦΗΣ
URL:https://www.epege.gr/event/23-epistimoniki-ekdilosi-epege/
LOCATION:Ξενοδοχείο Royal Olympic\, Αθ. Διάκου 28\, Αθήνα\, 117 43
CATEGORIES:Διημερίδα
ATTACH;FMTTYPE=image/jpeg:https://www.epege.gr/wp-content/uploads/2026/04/Afisa-Epege-2026_42x58cm.jpg
ORGANIZER;CN="%CE%95%CE%A0.%CE%95.%CE%93.%CE%95.":MAILTO:info@epege.gr
END:VEVENT
END:VCALENDAR